BEGIN:VCALENDAR
VERSION:2.0
PRODID:-//ΠΑΝΕΚΦΕ - ECPv6.15.20//NONSGML v1.0//EN
CALSCALE:GREGORIAN
METHOD:PUBLISH
X-ORIGINAL-URL:https://panekfe.gr
X-WR-CALDESC:Events for ΠΑΝΕΚΦΕ
REFRESH-INTERVAL;VALUE=DURATION:PT1H
X-Robots-Tag:noindex
X-PUBLISHED-TTL:PT1H
BEGIN:VTIMEZONE
TZID:Europe/Athens
BEGIN:DAYLIGHT
TZOFFSETFROM:+0200
TZOFFSETTO:+0300
TZNAME:EEST
DTSTART:20220327T010000
END:DAYLIGHT
BEGIN:STANDARD
TZOFFSETFROM:+0300
TZOFFSETTO:+0200
TZNAME:EET
DTSTART:20221030T010000
END:STANDARD
BEGIN:DAYLIGHT
TZOFFSETFROM:+0200
TZOFFSETTO:+0300
TZNAME:EEST
DTSTART:20230326T010000
END:DAYLIGHT
BEGIN:STANDARD
TZOFFSETFROM:+0300
TZOFFSETTO:+0200
TZNAME:EET
DTSTART:20231029T010000
END:STANDARD
BEGIN:DAYLIGHT
TZOFFSETFROM:+0200
TZOFFSETTO:+0300
TZNAME:EEST
DTSTART:20240331T010000
END:DAYLIGHT
BEGIN:STANDARD
TZOFFSETFROM:+0300
TZOFFSETTO:+0200
TZNAME:EET
DTSTART:20241027T010000
END:STANDARD
END:VTIMEZONE
BEGIN:VEVENT
DTSTART;TZID=Europe/Athens:20230918T173000
DTEND;TZID=Europe/Athens:20230918T183000
DTSTAMP:20260422T133752
CREATED:20230911T135108Z
LAST-MODIFIED:20230911T135153Z
UID:3081-1695058200-1695061800@panekfe.gr
SUMMARY:Ενημέρωση ESERO
DESCRIPTION:Διαδκτυακή ενημέρωση για τα προγράμματα που διοργανώνει η ESA σε συνεργασία με το ελληνικό γραφείο  (ESERO)
URL:https://panekfe.gr/event/%ce%b5%ce%bd%ce%b7%ce%bc%ce%ad%cf%81%cf%89%cf%83%ce%b7-esero/
ORGANIZER;CN="ESERO":MAILTO:info@esero.gr
END:VEVENT
END:VCALENDAR